BEGIN:VCALENDAR
VERSION:2.0
PRODID:-//Skateboarding WA - ECPv4.6.23//NONSGML v1.0//EN
CALSCALE:GREGORIAN
METHOD:PUBLISH
X-WR-CALNAME:Skateboarding WA
X-ORIGINAL-URL:https://skateboardingwa.com.au
X-WR-CALDESC:Events for Skateboarding WA
BEGIN:VEVENT
DTSTART;TZID=Australia/Perth:20190302T090000
DTEND;TZID=Australia/Perth:20190302T110000
DTSTAMP:20190227T181736
CREATED:20190210T013714Z
LAST-MODIFIED:20190210T013823Z
UID:768-1551517200-1551524400@skateboardingwa.com.au
SUMMARY:Clinic - all ages
DESCRIPTION:
URL:https://skateboardingwa.com.au/event/clinic-all-ages-78/
LOCATION:Mills Park Skate Plaza\, 86 Brixton Street\, Beckenham\, WA\, 6107\, Australia
CATEGORIES:Clinic - all ages
END:VEVENT
BEGIN:VEVENT
DTSTART;TZID=Australia/Perth:20190302T130000
DTEND;TZID=Australia/Perth:20190302T150000
DTSTAMP:20190227T181736
CREATED:20190210T014207Z
LAST-MODIFIED:20190210T014207Z
UID:772-1551531600-1551538800@skateboardingwa.com.au
SUMMARY:Clinic - all ages
DESCRIPTION:
URL:https://skateboardingwa.com.au/event/clinic-all-ages-79/
LOCATION:Roleystone Skatepark\, Jarrah Road\, Roleystone\, WA\, 6111\, Australia
CATEGORIES:Clinic - all ages
END:VEVENT
BEGIN:VEVENT
DTSTART;TZID=Australia/Perth:20190302T150000
DTEND;TZID=Australia/Perth:20190302T180000
DTSTAMP:20190227T181736
CREATED:20190210T014252Z
LAST-MODIFIED:20190210T014252Z
UID:774-1551538800-1551549600@skateboardingwa.com.au
SUMMARY:Competition
DESCRIPTION:
URL:https://skateboardingwa.com.au/event/competition-2/
LOCATION:Roleystone Skatepark\, Jarrah Road\, Roleystone\, WA\, 6111\, Australia
CATEGORIES:Competition
END:VEVENT
END:VCALENDAR