BEGIN:VCALENDAR
VERSION:2.0
PRODID:-//Skateboarding WA - ECPv4.6.23//NONSGML v1.0//EN
CALSCALE:GREGORIAN
METHOD:PUBLISH
X-WR-CALNAME:Skateboarding WA
X-ORIGINAL-URL:https://skateboardingwa.com.au
X-WR-CALDESC:Events for Skateboarding WA
BEGIN:VEVENT
DTSTART;TZID=Australia/Perth:20190301T153000
DTEND;TZID=Australia/Perth:20190301T173000
DTSTAMP:20190227T181716
CREATED:20190210T013509Z
LAST-MODIFIED:20190210T022515Z
UID:766-1551454200-1551461400@skateboardingwa.com.au
SUMMARY:Best trick jam
DESCRIPTION:
URL:https://skateboardingwa.com.au/event/clinic-best-trick-jam/
LOCATION:Pinjarra Skatepark\, 1 Roe Avenue\, Pinjarra\, WA\, 6208\, Australia
CATEGORIES:Best trick jam
END:VEVENT
END:VCALENDAR