BEGIN:VCALENDAR
VERSION:2.0
PRODID:-//Skateboarding WA - ECPv4.6.23//NONSGML v1.0//EN
CALSCALE:GREGORIAN
METHOD:PUBLISH
X-WR-CALNAME:Skateboarding WA
X-ORIGINAL-URL:https://skateboardingwa.com.au
X-WR-CALDESC:Events for Skateboarding WA
BEGIN:VEVENT
DTSTART;TZID=Australia/Perth:20190222T153000
DTEND;TZID=Australia/Perth:20190222T173000
DTSTAMP:20190227T180728
CREATED:20190114T062109Z
LAST-MODIFIED:20190210T022536Z
UID:716-1550849400-1550856600@skateboardingwa.com.au
SUMMARY:Clinic + Jam session
DESCRIPTION:
URL:https://skateboardingwa.com.au/event/clinic-all-ages-72/
LOCATION:Pinjarra Skatepark\, 1 Roe Avenue\, Pinjarra\, WA\, 6208\, Australia
CATEGORIES:Clinic + Jam session
END:VEVENT
END:VCALENDAR