BEGIN:VCALENDAR
VERSION:2.0
PRODID:-//Skateboarding WA - ECPv4.6.23//NONSGML v1.0//EN
CALSCALE:GREGORIAN
METHOD:PUBLISH
X-WR-CALNAME:Skateboarding WA
X-ORIGINAL-URL:https://skateboardingwa.com.au
X-WR-CALDESC:Events for Skateboarding WA
BEGIN:VEVENT
DTSTART;TZID=Australia/Perth:20190220T160000
DTEND;TZID=Australia/Perth:20190220T180000
DTSTAMP:20190227T180617
CREATED:20190114T062029Z
LAST-MODIFIED:20190114T062029Z
UID:714-1550678400-1550685600@skateboardingwa.com.au
SUMMARY:Clinic - all ages
DESCRIPTION:
URL:https://skateboardingwa.com.au/event/clinic-all-ages-71/
LOCATION:Spearwood Skatepark\, 469 Rockingham Road\, Spearwood\, WA\, 6163\, Australia
CATEGORIES:Clinic - all ages
END:VEVENT
END:VCALENDAR