BEGIN:VCALENDAR
VERSION:2.0
PRODID:-//Skateboarding WA - ECPv4.6.23//NONSGML v1.0//EN
CALSCALE:GREGORIAN
METHOD:PUBLISH
X-WR-CALNAME:Skateboarding WA
X-ORIGINAL-URL:https://skateboardingwa.com.au
X-WR-CALDESC:Events for Skateboarding WA
BEGIN:VEVENT
DTSTART;TZID=Australia/Perth:20190218T190000
DTEND;TZID=Australia/Perth:20190218T210000
DTSTAMP:20190227T180407
CREATED:20190114T061911Z
LAST-MODIFIED:20190205T003551Z
UID:710-1550516400-1550523600@skateboardingwa.com.au
SUMMARY:Ladies only clinic + session (Ages 15+)
DESCRIPTION:
URL:https://skateboardingwa.com.au/event/ladies-only-clinic-session-12/
LOCATION:Fremantle EYP\, Esplanade Park\, Fremantle\, WA\, 6160\, Australia
CATEGORIES:Ladies only clinic + session
END:VEVENT
END:VCALENDAR