BEGIN:VCALENDAR
VERSION:2.0
PRODID:-//Skateboarding WA - ECPv4.6.23//NONSGML v1.0//EN
CALSCALE:GREGORIAN
METHOD:PUBLISH
X-WR-CALNAME:Skateboarding WA
X-ORIGINAL-URL:https://skateboardingwa.com.au
X-WR-CALDESC:Events for Skateboarding WA
BEGIN:VEVENT
DTSTART;TZID=Australia/Perth:20190210T090000
DTEND;TZID=Australia/Perth:20190210T110000
DTSTAMP:20190227T175513
CREATED:20181127T092222Z
LAST-MODIFIED:20181127T092222Z
UID:636-1549789200-1549796400@skateboardingwa.com.au
SUMMARY:Clinic - all ages
DESCRIPTION:
URL:https://skateboardingwa.com.au/event/clinic-all-ages-57/
LOCATION:Kwinana Edge Skatepark\, Gilmore Avenue\, Calista\, Kwinana\, 6167\, Australia
CATEGORIES:Clinic - all ages
END:VEVENT
BEGIN:VEVENT
DTSTART;TZID=Australia/Perth:20190210T130000
DTEND;TZID=Australia/Perth:20190210T150000
DTSTAMP:20190227T175513
CREATED:20190114T061308Z
LAST-MODIFIED:20190207T074651Z
UID:698-1549803600-1549810800@skateboardingwa.com.au
SUMMARY:Ladies only clinic + session
DESCRIPTION:Event has been postponed due to extreme heat. Apologies for any inconvenience caused. \n
URL:https://skateboardingwa.com.au/event/ladies-only-clinic-session-7/
LOCATION:Manning Skatepark\, Manning Rd\, Karawara\, Perth\, 6152\, Australia
CATEGORIES:Ladies only clinic + session
END:VEVENT
END:VCALENDAR