BEGIN:VCALENDAR
VERSION:2.0
PRODID:-//Skateboarding WA - ECPv4.6.23//NONSGML v1.0//EN
CALSCALE:GREGORIAN
METHOD:PUBLISH
X-WR-CALNAME:Skateboarding WA
X-ORIGINAL-URL:https://skateboardingwa.com.au
X-WR-CALDESC:Events for Skateboarding WA
BEGIN:VEVENT
DTSTART;TZID=Australia/Perth:20190206T160000
DTEND;TZID=Australia/Perth:20190206T180000
DTSTAMP:20190227T175123
CREATED:20190114T060957Z
LAST-MODIFIED:20190114T060957Z
UID:691-1549468800-1549476000@skateboardingwa.com.au
SUMMARY:Clinic - all ages
DESCRIPTION:
URL:https://skateboardingwa.com.au/event/clinic-all-ages-64/
LOCATION:Spearwood Skatepark\, 469 Rockingham Road\, Spearwood\, WA\, 6163\, Australia
CATEGORIES:Clinic - all ages
END:VEVENT
BEGIN:VEVENT
DTSTART;TZID=Australia/Perth:20190206T193000
DTEND;TZID=Australia/Perth:20190206T213000
DTSTAMP:20190227T175123
CREATED:20190114T061109Z
LAST-MODIFIED:20190114T061109Z
UID:694-1549481400-1549488600@skateboardingwa.com.au
SUMMARY:Night jam session
DESCRIPTION:
URL:https://skateboardingwa.com.au/event/night-jam-session-5/
LOCATION:Leederville Skatepark\, 60 Frame Court\, Leederville\, Perth\, WA\, 6007\, Australia
END:VEVENT
END:VCALENDAR