BEGIN:VCALENDAR
VERSION:2.0
PRODID:-//Skateboarding WA - ECPv4.6.23//NONSGML v1.0//EN
CALSCALE:GREGORIAN
METHOD:PUBLISH
X-WR-CALNAME:Skateboarding WA
X-ORIGINAL-URL:https://skateboardingwa.com.au
X-WR-CALDESC:Events for Skateboarding WA
BEGIN:VEVENT
DTSTART;TZID=Australia/Perth:20190203T103000
DTEND;TZID=Australia/Perth:20190203T123000
DTSTAMP:20190227T174910
CREATED:20190114T060733Z
LAST-MODIFIED:20190114T060733Z
UID:687-1549189800-1549197000@skateboardingwa.com.au
SUMMARY:Clinic - all ages
DESCRIPTION:
URL:https://skateboardingwa.com.au/event/clinic-all-ages-62/
LOCATION:Pinjarra Skatepark\, 1 Roe Avenue\, Pinjarra\, WA\, 6208\, Australia
CATEGORIES:Clinic - all ages
END:VEVENT
END:VCALENDAR